BEGIN:VCALENDAR
VERSION:2.0
PRODID:-//Battle Bowls Club - ECPv6.15.11//NONSGML v1.0//EN
CALSCALE:GREGORIAN
METHOD:PUBLISH
X-ORIGINAL-URL:https://battlebowlsclub.org.uk
X-WR-CALDESC:Events for Battle Bowls Club
REFRESH-INTERVAL;VALUE=DURATION:PT1H
X-Robots-Tag:noindex
X-PUBLISHED-TTL:PT1H
BEGIN:VTIMEZONE
TZID:Europe/London
BEGIN:DAYLIGHT
TZOFFSETFROM:+0000
TZOFFSETTO:+0100
TZNAME:BST
DTSTART:20250330T010000
END:DAYLIGHT
BEGIN:STANDARD
TZOFFSETFROM:+0100
TZOFFSETTO:+0000
TZNAME:GMT
DTSTART:20251026T010000
END:STANDARD
BEGIN:DAYLIGHT
TZOFFSETFROM:+0000
TZOFFSETTO:+0100
TZNAME:BST
DTSTART:20260329T010000
END:DAYLIGHT
BEGIN:STANDARD
TZOFFSETFROM:+0100
TZOFFSETTO:+0000
TZNAME:GMT
DTSTART:20261025T010000
END:STANDARD
BEGIN:DAYLIGHT
TZOFFSETFROM:+0000
TZOFFSETTO:+0100
TZNAME:BST
DTSTART:20270328T010000
END:DAYLIGHT
BEGIN:STANDARD
TZOFFSETFROM:+0100
TZOFFSETTO:+0000
TZNAME:GMT
DTSTART:20271031T010000
END:STANDARD
END:VTIMEZONE
BEGIN:VEVENT
DTSTART;TZID=Europe/London:20260417T080000
DTEND;TZID=Europe/London:20260417T170000
DTSTAMP:20260420T111031
CREATED:20260417T130313Z
LAST-MODIFIED:20260417T130313Z
UID:4052-1776412800-1776445200@battlebowlsclub.org.uk
SUMMARY:Green Opening
DESCRIPTION:Saturday April 18th brings our Green Opening day – our 121st year! \nFestivities commence at  around 2pm with delivery of the first wood of the year by Jeremy Blandford one of our Trustees following a 5 Triples match of 16 ends between teams from the President\, Bruce Cripps\, and our Captain\, Stuart Macnab. \nThere will be one of Battle’s famous delicious teas half way through open to all members and their guests whether bowling or not.
URL:https://battlebowlsclub.org.uk/events/green-opening/
END:VEVENT
BEGIN:VEVENT
DTSTART;TZID=Europe/London:20260401T190000
DTEND;TZID=Europe/London:20260401T213000
DTSTAMP:20260420T111031
CREATED:20260310T130239Z
LAST-MODIFIED:20260311T123913Z
UID:4041-1775070000-1775079000@battlebowlsclub.org.uk
SUMMARY:Fun and Games Night
DESCRIPTION:We are having another of Alison’s Fun Games Night for all to have fun and get together before the start of the season. \nLight-hearted games for all. All members and their friends are welcome
URL:https://battlebowlsclub.org.uk/events/fun-games-night/
LOCATION:Battle Guide Hut\, Battle Recreation Ground\, Battle\, TN33 0HA
CATEGORIES:All events,Social Event,Social events
ORGANIZER;CN="Alison Collard":MAILTO:alison@collardmail.com
END:VEVENT
END:VCALENDAR